Workbook

Sheet Resumen
B1: ANEXO III - PROYECTOS POR PROVINCIA EN EL PLAN NACIONAL DE INVERSIONES PÚBLICAS
B3: Ubicación geográfica | C3: Monto 2027 PLP (mill. $)
C4: Total | D4: IRD | E4: Transf. Capital | F4: Inv. Financiera | G4: Aplic. Financ.
B5: Ciudad Autónoma de Buenos Aires | C5: =CABA!J6 -> 425462.58 | D5: =CABA!K6 -> 412562.71 | E5: =CABA!L6 -> 12785.083 | F5: =CABA!M6 -> 114.79 | G5: =CABA!N6 -> 0
B6: Provincia de Buenos Aires | C6: ='Buenos Aires'!J6 -> 388916.78 | D6: ='Buenos Aires'!K6 -> 350950.2 | E6: ='Buenos Aires'!L6 -> 37856.2 | F6: ='Buenos Aires'!M6 -> 110.375 | G6: ='Buenos Aires'!N6 -> 0
B7: Provincia de Catamarca | C7: =Catamarca!J6 -> 22742.339 | D7: =Catamarca!K6 -> 21405.023 | E7: =Catamarca!L6 -> 1337.3166 | F7: =Catamarca!M6 -> 0 | G7: =Catamarca!N6 -> 0
B8: Provincia de Córdoba | C8: =Córdoba!J6 -> 60142.584 | D8: =Córdoba!K6 -> 58874.072 | E8: =Córdoba!L6 -> 1268.5121 | F8: =Córdoba!M6 -> 0 | G8: =Córdoba!N6 -> 0
B9: Provincia de Corrientes | C9: =Corrientes!J6 -> 30141.515 | D9: =Corrientes!K6 -> 27828.949 | E9: =Corrientes!L6 -> 2312.5654 | F9: =Corrientes!M6 -> 0 | G9: =Corrientes!N6 -> 0
B10: Provincia de Entre Ríos | C10: ='Entre Rios'!J6 -> 24534.865 | D10: ='Entre Rios'!K6 -> 23693.357 | E10: ='Entre Rios'!L6 -> 841.50789 | F10: ='Entre Rios'!M6 -> 0 | G10: ='Entre Rios'!N6 -> 0
B11: Provincia de Formosa | C11: =Formosa!J6 -> 13170.687 | D11: =Formosa!K6 -> 12512.489 | E11: =Formosa!L6 -> 658.19881 | F11: =Formosa!M6 -> 0 | G11: =Formosa!N6 -> 0
B12: Provincia de Jujuy | C12: =Jujuy!J6 -> 47751.697 | D12: =Jujuy!K6 -> 45373.101 | E12: =Jujuy!L6 -> 2378.596 | F12: =Jujuy!M6 -> 0 | G12: =Jujuy!N6 -> 0
B13: Provincia de La Pampa | C13: ='La Pampa'!J6 -> 6599.0195 | D13: ='La Pampa'!K6 -> 6269.5923 | E13: ='La Pampa'!L6 -> 329.42721 | F13: ='La Pampa'!M6 -> 0 | G13: ='La Pampa'!N6 -> 0
B14: Provincia de La Rioja | C14: ='La Rioja'!J6 -> 22172.127 | D14: ='La Rioja'!K6 -> 21112.233 | E14: ='La Rioja'!L6 -> 1059.8949 | F14: ='La Rioja'!M6 -> 0 | G14: ='La Rioja'!N6 -> 0
B15: Provincia de Mendoza | C15: =Mendoza!J6 -> 36765.278 | D15: =Mendoza!K6 -> 32794.807 | E15: =Mendoza!L6 -> 3970.4712 | F15: =Mendoza!M6 -> 0 | G15: =Mendoza!N6 -> 0
B16: Provincia de Misiones | C16: =Misiones!J6 -> 25187.514 | D16: =Misiones!K6 -> 13655.037 | E16: =Misiones!L6 -> 11532.476 | F16: =Misiones!M6 -> 0 | G16: =Misiones!N6 -> 0
B17: Provincia de Río Negro | C17: ='Rio Negro'!J6 -> 36052.759 | D17: ='Rio Negro'!K6 -> 35765.046 | E17: ='Rio Negro'!L6 -> 287.71302 | F17: ='Rio Negro'!M6 -> 0 | G17: ='Rio Negro'!N6 -> 0
B18: Provincia de Salta | C18: =Salta!J6 -> 130128.52 | D18: =Salta!K6 -> 127824.17 | E18: =Salta!L6 -> 2304.343 | F18: =Salta!M6 -> 0 | G18: =Salta!N6 -> 0
B19: Provincia de San Juan | C19: ='San Juan'!J6 -> 33396.565 | D19: ='San Juan'!K6 -> 31743.87 | E19: ='San Juan'!L6 -> 1652.695 | F19: ='San Juan'!M6 -> 0 | G19: ='San Juan'!N6 -> 0
B20: Provincia de San Luis | C20: ='San Luis'!J6 -> 10499.068 | D20: ='San Luis'!K6 -> 4340.9916 | E20: ='San Luis'!L6 -> 6158.0759 | F20: ='San Luis'!M6 -> 0 | G20: ='San Luis'!N6 -> 0
B21: Provincia de Santa Cruz | C21: ='Santa Cruz'!J6 -> 100028.67 | D21: ='Santa Cruz'!K6 -> 98859.666 | E21: ='Santa Cruz'!L6 -> 1169.0054 | F21: ='Santa Cruz'!M6 -> 0 | G21: ='Santa Cruz'!N6 -> 0
B22: Provincia de Santa Fe | C22: ='Santa Fe'!J6 -> 66110.066 | D22: ='Santa Fe'!K6 -> 30645.293 | E22: ='Santa Fe'!L6 -> 35464.773 | F22: ='Santa Fe'!M6 -> 0 | G22: ='Santa Fe'!N6 -> 0
B23: Provincia de Santiago del Estero | C23: ='Santiago del Estero'!J6 -> 29893.664 | D23: ='Santiago del Estero'!K6 -> 29270.637 | E23: ='Santiago del Estero'!L6 -> 623.02742 | F23: ='Santiago del Estero'!M6 -> 0 | G23: ='Santiago del Estero'!N6 -> 0
B24: Provincia de Tierra del Fuego, Antártida e Islas del Atlántico Sur | C24: ='Tierra del Fuego'!J6 -> 10829.204 | D24: ='Tierra del Fuego'!K6 -> 10056.677 | E24: ='Tierra del Fuego'!L6 -> 772.52704 | F24: ='Tierra del Fuego'!M6 -> 0 | G24: ='Tierra del Fuego'!N6 -> 0
B25: Provincia de Tucumán | C25: =Tucumán!J6 -> 109171.89 | D25: =Tucumán!K6 -> 53574.96 | E25: =Tucumán!L6 -> 55596.926 | F25: =Tucumán!M6 -> 0 | G25: =Tucumán!N6 -> 0
B26: Provincia del Chaco | C26: =Chaco!J6 -> 44178.604 | D26: =Chaco!K6 -> 11612.311 | E26: =Chaco!L6 -> 32566.293 | F26: =Chaco!M6 -> 0 | G26: =Chaco!N6 -> 0
B27: Provincia del Chubut | C27: =Chubut!J6 -> 31577.719 | D27: =Chubut!K6 -> 31317.325 | E27: =Chubut!L6 -> 260.39459 | F27: =Chubut!M6 -> 0 | G27: =Chubut!N6 -> 0
B28: Provincia del Neuquén | C28: =Neuquén!J6 -> 16236.965 | D28: =Neuquén!K6 -> 15743.403 | E28: =Neuquén!L6 -> 493.56209 | F28: =Neuquén!M6 -> 0 | G28: =Neuquén!N6 -> 0
B29: Nacional | C29: =Nacional!J6 -> 1060035 | D29: =Nacional!K6 -> 195952.78 | E29: =Nacional!L6 -> 859566.35 | F29: =Nacional!M6 -> 4515.835 | G29: =Nacional!N6 -> 0
B30: Binacional | C30: =Binacional!J6 -> 50882.584 | D30: =Binacional!K6 -> 0 | E30: =Binacional!L6 -> 50882.584 | F30: =Binacional!M6 -> 0 | G30: =Binacional!N6 -> 0
B31: Interprovincial | C31: =Interprovincial!J6 -> 575680.14 | D31: =Interprovincial!K6 -> 203611.14 | E31: =Interprovincial!L6 -> 372069 | F31: =Interprovincial!M6 -> 0 | G31: =Interprovincial!N6 -> 0
B32: No Clasificado | C32: ='No clasificado'!J6 -> 1141898.8 | D32: ='No clasificado'!K6 -> 0 | E32: ='No clasificado'!L6 -> 0 | F32: ='No clasificado'!M6 -> 0 | G32: ='No clasificado'!N6 -> 1141898.8
B33: Exterior | C33: =Exterior!J6 -> 359990.4 | D33: =Exterior!K6 -> 3514.6161 | E33: =Exterior!L6 -> 0 | F33: =Exterior!M6 -> 356475.78 | G33: =Exterior!N6 -> 0
B34: Total | C34: =SUM(C5:C33) -> 4910177.5 | D34: =SUM(D5:D33) -> 1910864.5 | E34: =SUM(E5:E33) -> 1496197.5 | F34: =SUM(F5:F33) -> 361216.78 | G34: =SUM(G5:G33) -> 1141898.8

Sheet CABA
A1: PLAN NACIONAL DE INVERSIONES PÚBLICAS 2027 - 2029 - Ciudad Autónoma de Buenos Aires
A2: montos en millones de pesos
A3: GASTO DE INVERSIÓN DE LA ADMINISTRACIÓN PÚBLICA NACIONAL POR PROYECTO
A4: Jurisdicción | C4: SAF | E4: Proyecto de Inversión (BAPIN) | G4: Estado | H4: Finalidad | I4: Función | J4: Monto 2027 Proyecto de ley
A5: Cód. | B5: Descripción | C5: Cód. | D5: Descripción | E5: Cod. BAPIN | F5: Denominación | J5: $ | K5: IRD | L5: Transf. Capital | M5: Inv. Financiera | N5: Aplic. Financ.
A6: GASTO DE INVERSIÓN DE LA ADMINISTRACIÓN PÚBLICA NACIONAL POR PROYECTO EN LA CIUDAD AUTÓNOMA DE BUENOS AIRES | J6: =+SUM(J7:J459) -> 425462.58 | K6: =+SUM(K7:K459) -> 412562.71 | L6: =+SUM(L7:L459) -> 12785.083 | M6: =+SUM(M7:M459) -> 114.79 | N6: =+SUM(N7:N459) -> 0
A7: 1 | B7: Poder Legislativo Nacional | C7: 1 | D7: Auditoría General de la Nación | E7: 154130 | F7: ADQUISICIÓN EQUIPAMIENTO BÁSICO -AUDITORIA GENERAL DE LA NACIÓN -AÑO 2027 | G7: A INICIAR | H7: ADMINISTRACION GUBERNAMENTAL | I7: Control de la Gestión Pública | J7: 608 | K7: 608 | L7: 0 | M7: 0 | N7: 0
A8: 1 | B8: Poder Legislativo Nacional | C8: 312 | D8: Honorable Senado de la Nación Argentina | E8: 154692 | F8: EQUIPAMIENTO BÁSICO DE OFICINA 2027 | G8: A INICIAR | H8: ADMINISTRACION GUBERNAMENTAL | I8: Legislativa | J8: 2498 | K8: 2498 | L8: 0 | M8: 0 | N8: 0
A9: 1 | B9: Poder Legislativo Nacional | C9: 312 | D9: Honorable Senado de la Nación Argentina | E9: 154766 | F9: EQUIPAMIENTOS VARIOS 2027 | G9: A INICIAR | H9: ADMINISTRACION GUBERNAMENTAL | I9: Legislativa | J9: 151 | K9: 151 | L9: 0 | M9: 0 | N9: 0
A10: 1 | B10: Poder Legislativo Nacional | C10: 313 | D10: Honorable Cámara de Diputados de la Nación Argentina | E10: 154696 | F10: ADQUISICION DE EQUIPAMIENTOS BASICOS DE OFICINA - PROGRAMA 17 - EJERCICIO 2027 | G10: A INICIAR | H10: ADMINISTRACION GUBERNAMENTAL | I10: Legislativa | J10: 2843 | K10: 2843 | L10: 0 | M10: 0 | N10: 0
A11: 1 | B11: Poder Legislativo Nacional | C11: 314 | D11: Biblioteca del Congreso de la Nación | E11: 148294 | F11: AMPLIACIÓN DEL ACERVO BIBLIOGRÁFICO Y DOCUMENTAL 2027 - BIBLIOTECA DEL CONGRESO DE LA NACIÓN - CIUDAD AUTÓNOMA DE BUENOS AIRES | G11: A INICIAR | H11: SERVICIOS SOCIALES | I11: Educación y Cultura | J11: 25 | K11: 25 | L11: 0 | M11: 0 | N11: 0
A12: 1 | B12: Poder Legislativo Nacional | C12: 314 | D12: Biblioteca del Congreso de la Nación | E12: 153852 | F12: ADQUISICIÓN DE EQUIPAMIENTO FUNCIONAL, MAQUINARIA ESPECÍFICA Y LICENCIAS DE SOFTWARE 2027 - BIBLIOTECA DEL CONGRESO DE LA NACIÓN - CIUDAD AUTÓNOMA DE BUENOS AIRES | G12: A INICIAR | H12: SERVICIOS SOCIALES | I12: Educación y Cultura | J12: 33 | K12: 33 | L12: 0 | M12: 0 | N12: 0
A13: 1 | B13: Poder Legislativo Nacional | C13: 315 | D13: Imprenta del Congreso de la Nación | E13: 154929 | F13: ADQUISICIÓN DE TRES EQUIPOS DE PRODUCCIÓN 1 (UNA) BOOKEYE 4 2 (DOS) RICOH FI-7900 | G13: A INICIAR | H13: ADMINISTRACION GUBERNAMENTAL | I13: Legislativa | J13: 224 | K13: 224 | L13: 0 | M13: 0 | N13: 0
A14: 1 | B14: Poder Legislativo Nacional | C14: 316 | D14: Dirección de Ayuda Social para el Personal del Congreso de la Nación (DAS) | E14: 154934 | F14: EQUIPAMIENTO BÁSICO DE OFICINA 2027 | G14: A INICIAR | H14: SERVICIOS SOCIALES | I14: Salud | J14: 740 | K14: 740 | L14: 0 | M14: 0 | N14: 0
A15: 1 | B15: Poder Legislativo Nacional | C15: 316 | D15: Dirección de Ayuda Social para el Personal del Congreso de la Nación (DAS) | E15: 155065 | F15: EQUIPAMIENTO MEDICO Y ODONTOLÓGICO 2027 | G15: A INICIAR | H15: SERVICIOS SOCIALES | I15: Salud | J15: 125 | K15: 125 | L15: 0 | M15: 0 | N15: 0
A16: 1 | B16: Poder Legislativo Nacional | C16: 319 | D16: Defensoría del Pueblo de la Nación | E16: 154706 | F16: BIENES DE USO 2027 | G16: A INICIAR | H16: ADMINISTRACION GUBERNAMENTAL | I16: Legislativa | J16: 81 | K16: 81 | L16: 0 | M16: 0 | N16: 0
A17: 1 | B17: Poder Legislativo Nacional | C17: 340 | D17: Procuración Penitenciaria de la Nación | E17: 154166 | F17: ADQUISICIÓN DE EQUIPAMIENTO DE OFICINA Y EQUIPAMIENTO INFORMATICO. | G17: A INICIAR | H17: ADMINISTRACION GUBERNAMENTAL | I17: Judicial | J17: 41 | K17: 41 | L17: 0 | M17: 0 | N17: 0
A18: 1 | B18: Poder Legislativo Nacional | C18: 346 | D18: Defensoría del Público de Servicios de Comunicación Audiovisual | E18: 153838 | F18: ACTUALIZACIÓN DE EQUIPAMIENTO INFORMÁTICO, MOBILIARIO DE OFICINA Y LICENCIAS 2027 | G18: A INICIAR | H18: ADMINISTRACION GUBERNAMENTAL | I18: Legislativa | J18: 9 | K18: 9 | L18: 0 | M18: 0 | N18: 0
... A459: 91 | B459: Obligaciones a Cargo del Tesoro | C459: 356 | D459: Obligaciones a Cargo del Tesoro | E459: 155000 | F459: TRANSFERENCIA DE CAPITAL PARA CONTENIDOS PUBLICOS SAU - AÑO 2027 | G459: A INICIAR | H459: SERVICIOS ECONOMICOS | I459: Comunicaciones | J459: 77.5 | K459: 0 | L459: 77.5 | M459: 0 | N459: 0

Sheet Buenos Aires
A1: PLAN NACIONAL DE INVERSIONES PÚBLICAS 2027 - 2029 - Provincia de Buenos Aires
A2: montos en millones de pesos
A3: GASTO DE INVERSIÓN DE LA ADMINISTRACIÓN PÚBLICA NACIONAL POR PROYECTO
A4: Jurisdicción | C4: SAF | E4: Proyecto de Inversión (BAPIN) | G4: Estado | H4: Finalidad | I4: Función | J4: Monto 2027 Proyecto de ley
A5: Cód. | B5: Descripción | C5: Cód. | D5: Descripción | E5: Cod. BAPIN | F5: Denominación | J5: $ | K5: IRD | L5: Transf. Capital | M5: Inv. Financiera | N5: Aplic. Financ.
A6: GASTO DE INVERSIÓN DE LA ADMINISTRACIÓN PÚBLICA NACIONAL POR PROYECTO EN LA PROVINCIA DE BUENOS AIRES | J6: =+SUM(J7:J178) -> 388916.78 | K6: =+SUM(K7:K178) -> 350950.2 | L6: =+SUM(L7:L178) -> 37856.2 | M6: =+SUM(M7:M178) -> 110.375 | N6: =+SUM(N7:N178) -> 0
A7: 5 | B7: Poder Judicial de la Nación | C7: 320 | D7: Consejo de la Magistratura | E7: 68989 | F7: REMODELACIÓN Y AMPLIACIÓN DEL EDIFICIO, JUZGADO FEDERAL DE JUNÍN CABRERA 222, JUNÍN, BS.AS. | G7: A INICIAR | H7: ADMINISTRACION GUBERNAMENTAL | I7: Judicial | J7: 140.31296 | K7: 140.31296 | L7: 0 | M7: 0 | N7: 0
A8: 10 | B8: Ministerio Público | C8: 360 | D8: Procuración General de la Nación | E8: 150663 | F8: ADQUISICIÓN DE EQUIPAMIENTO PARA LA CREACIÓN DE NUEVAS SEDES DEL RÉGIMEN ACUSATORIO EN EL TERRITORIO NACIONAL | G8: A INICIAR | H8: ADMINISTRACION GUBERNAMENTAL | I8: Judicial | J8: 463.16816 | K8: 463.16816 | L8: 0 | M8: 0 | N8: 0
A9: 10 | B9: Ministerio Público | C9: 361 | D9: Defensoría General de la Nación | E9: 146500 | F9: REFACCIÓN DE INMUEBLE PARA SEDE DE LA DEFENSORÍA DE BAHÍA BLANCA, PBA | G9: INICIADO | H9: ADMINISTRACION GUBERNAMENTAL | I9: Judicial | J9: 237.14612 | K9: 237.14612 | L9: 0 | M9: 0 | N9: 0
A10: 10 | B10: Ministerio Público | C10: 361 | D10: Defensoría General de la Nación | E10: 146504 | F10: REFACCIÓN DE INMUEBLE PARA SEDE DE LA DEFENSORÍA DE DOLORES, PBA | G10: INICIADO | H10: ADMINISTRACION GUBERNAMENTAL | I10: Judicial | J10: 67.013561 | K10: 67.013561 | L10: 0 | M10: 0 | N10: 0
A11: 10 | B11: Ministerio Público | C11: 361 | D11: Defensoría General de la Nación | E11: 146506 | F11: AMPLIACIÓN DE INMUEBLE PARA SEDE DE LA DEFENSORÍA DE MAR DEL PLATA, PBA | G11: A INICIAR | H11: ADMINISTRACION GUBERNAMENTAL | I11: Judicial | J11: 277.5 | K11: 277.5 | L11: 0 | M11: 0 | N11: 0
A12: 10 | B12: Ministerio Público | C12: 361 | D12: Defensoría General de la Nación | E12: 153020 | F12: REACONDICIONAMIENTO DEL EDIFICIO EN GARIBALDI 208, SAN NICOLÁS DE LOS ARROYO, BUENOS AIRES | G12: A INICIAR | H12: ADMINISTRACION GUBERNAMENTAL | I12: Judicial | J12: 7.163453 | K12: 7.163453 | L12: 0 | M12: 0 | N12: 0
A13: 10 | B13: Ministerio Público | C13: 361 | D13: Defensoría General de la Nación | E13: 153989 | F13: REEMPLAZO DE TEJAS PARA INMUEBLE DE LA CIUDAD DE SAN ISIDRO, PROVINCIA DE BUENOS AIRES | G13: A INICIAR | H13: ADMINISTRACION GUBERNAMENTAL | I13: Judicial | J13: 5.85 | K13: 5.85 | L13: 0 | M13: 0 | N13: 0
A14: 10 | B14: Ministerio Público | C14: 361 | D14: Defensoría General de la Nación | E14: 154356 | F14: IMPERMEABILIZACIÓN DE INMUEBLE EN LA CIUDAD DE SAN MARTIN, PCIA. DE BUENOS AIRES | G14: A INICIAR | H14: ADMINISTRACION GUBERNAMENTAL | I14: Judicial | J14: 10.8 | K14: 10.8 | L14: 0 | M14: 0 | N14: 0
A15: 20 | B15: Presidencia de la Nación | C15: 301 | D15: Secretaría General de la Presidencia de la Nación | E15: 154334 | F15: ADQUISICIÓN DE EQUIPAMIENTO BÁSICO DE OFICINA - EJERCICIO 2027 | G15: A INICIAR | H15: ADMINISTRACION GUBERNAMENTAL | I15: Dirección Superior Ejecutiva | J15: 48.4 | K15: 48.4 | L15: 0 | M15: 0 | N15: 0
A16: 20 | B16: Presidencia de la Nación | C16: 301 | D16: Secretaría General de la Presidencia de la Nación | E16: 154490 | F16: ADQUISICIÓN DE EQUIPOS AUDIOVISUALES, DE USO DOMÉSTICO Y OTROS. | G16: A INICIAR | H16: ADMINISTRACION GUBERNAMENTAL | I16: Dirección Superior Ejecutiva | J16: 2 | K16: 2 | L16: 0 | M16: 0 | N16: 0
A17: 25 | B17: Jefatura de Gabinete de Ministros | C17: 103 | D17: Consejo Nacional de Investigaciones Científicas y Técnicas | E17: 154565 | F17: ACONDICIONAMIENTO DE LOS BUQUES OCEONOGRÁFICOS PUERTO DESEADO Y ARA AUSTRAL 2027 - PROGRAMA PAMPA AZUL | G17: A INICIAR | H17: SERVICIOS SOCIALES | I17: Ciencia, Tecnología e Innovación | J17: 100 | K17: 0 | L17: 100 | M17: 0 | N17: 0
A18: 25 | B18: Jefatura de Gabinete de Ministros | C18: 107 | D18: Administración de Parques Nacionales | E18: 154714 | F18: ADQUISICIÓN DE EQUIPAMIENTO BÁSICO DE OFICINA PARA TODAS LAS DEPENDENCIAS DE LA ADMINISTRACIÓN DE PARQUES NACIONALES - AÑO 2027 | G18: A INICIAR | H18: SERVICIOS ECONOMICOS | I18: Ecología y Desarrollo Sostenible | J18: 32.260364 | K18: 32.260364 | L18: 0 | M18: 0 | N18: 0
... A178: 88 | B178: Ministerio de Capital Humano | C178: 850 | D178: Administración Nacional de la Seguridad Social | E178: 133236 | F178: PROVISIÓN E INSTALACIÓN DE UN SISTEMA DE PROTECCIÓN CONTRA INCENDIO PARA EL DEPOSITO EZEIZA, SITO EN PERITO MORENO 375, PARQUE INDUSTRIAL CANNING, EZEIZA | G178: A INICIAR | H178: SERVICIOS SOCIALES | I178: Seguridad Social | J178: 151 | K178: 151 | L178: 0 | M178: 0 | N178: 0

Sheet Catamarca
A1: PLAN NACIONAL DE INVERSIONES PÚBLICAS 2027 - 2029 - Provincia de Catamarca
A2: montos en millones de pesos
A3: GASTO DE INVERSIÓN DE LA ADMINISTRACIÓN PÚBLICA NACIONAL POR PROYECTO
A4: Jurisdicción | C4: SAF | E4: Proyecto de Inversión (BAPIN) | G4: Estado | H4: Finalidad | I4: Función | J4: Monto 2027 Proyecto de ley
A5: Cód. | B5: Descripción | C5: Cód. | D5: Descripción | E5: Cod. BAPIN | F5: Denominación | J5: $ | K5: IRD | L5: Transf. Capital | M5: Inv. Financiera | N5: Aplic. Financ.
A6: GASTO DE INVERSIÓN DE LA ADMINISTRACIÓN PÚBLICA NACIONAL POR PROYECTO EN LA PROVINCIA DE CATAMARCA | J6: =+SUM(J7:J34) -> 22742.339 | K6: =+SUM(K7:K34) -> 21405.023 | L6: =+SUM(L7:L34) -> 1337.3166 | M6: =+SUM(M7:M34) -> 0 | N6: =+SUM(N7:N34) -> 0
A7: 10 | B7: Ministerio Público | C7: 360 | D7: Procuración General de la Nación | E7: 150663 | F7: ADQUISICIÓN DE EQUIPAMIENTO PARA LA CREACIÓN DE NUEVAS SEDES DEL RÉGIMEN ACUSATORIO EN EL TERRITORIO NACIONAL | G7: A INICIAR | H7: ADMINISTRACION GUBERNAMENTAL | I7: Judicial | J7: 15.0696 | K7: 15.0696 | L7: 0 | M7: 0 | N7: 0
A8: 50 | B8: Ministerio de Economía | C8: 357 | D8: Ministerio de Economía | E8: 123929 | F8: AMPLIACIÓN LÍNEA DE ALTA TENSIÓN 220KV Y 132 KV ENTRE ALUMBRERA Y BELÉN Y NUEVAS ESTACIONES TRANSFORMADORAS EL EJE Y BELÉN, EN LA PROVINCIA DE CATAMARCA | G8: INICIADO | H8: SERVICIOS ECONOMICOS | I8: Energía, Combustibles y Minería | J8: 1000 | K8: 0 | L8: 1000 | M8: 0 | N8: 0
A9: 50 | B9: Ministerio de Economía | C9: 377 | D9: Infraestructura Económica y Social | E9: 109781 | F9: CONSTRUCCIÓN DE REDES FINAS Y CONEXIONES DOMICILIARIAS DE DESAGÜES CLOACALES PARA FRAY M. ESQUIÚ Y VALLE VIEJO - ETAPA II - PROVINCIA DE CATAMARCA | G9: INICIADO | H9: SERVICIOS SOCIALES | I9: Agua Potable y Alcantarillado | J9: 7871.5076 | K9: 7871.5076 | L9: 0 | M9: 0 | N9: 0
A10: 50 | B10: Ministerio de Economía | C10: 377 | D10: Infraestructura Económica y Social | E10: 132638 | F10: AMPLIACIÓN RED DE CLOACAS TINOGASTA ETAPA 1 - CATAMARCA | G10: INICIADO | H10: SERVICIOS SOCIALES | I10: Agua Potable y Alcantarillado | J10: 0.213765 | K10: 0 | L10: 0.213765 | M10: 0 | N10: 0
A11: 50 | B11: Ministerio de Economía | C11: 604 | D11: Dirección Nacional de Vialidad | E11: 108936 | F11: CREMA MALLA 408A - OBRAS DE RECUPERACIÓN Y MANTENIMIENTO EN RUTAS: RN 0060, TRAMO: LTE. CÓRDOBA/CATAMARCA - EMP. RP20 Y RN 0157, TRAMO: EMP. RN60 - LAVALLE - PROVINCIA DE CATAMARCA | G11: INICIADO | H11: SERVICIOS ECONOMICOS | I11: Transporte | J11: 3501.7254 | K11: 3501.7254 | L11: 0 | M11: 0 | N11: 0
A12: 50 | B12: Ministerio de Economía | C12: 604 | D12: Dirección Nacional de Vialidad | E12: 108941 | F12: CREMA MALLA 441 - OBRAS DE RECUPERACIÓN Y MANTENIMIENTO EN RUTA RN 0038, TRAMO: INICIO CIRCUNVALACIÓN CATAMARCA - LTE. CAT/TUC - PROVINCIA DE CATAMARCA (BID 3050) | G12: INICIADO | H12: SERVICIOS ECONOMICOS | I12: Transporte | J12: 3224.9965 | K12: 3224.9965 | L12: 0 | M12: 0 | N12: 0
A13: 50 | B13: Ministerio de Economía | C13: 604 | D13: Dirección Nacional de Vialidad | E13: 121433 | F13: SISTEMA MODULAR DE MANTENIMIENTO, RUTA NAC. N° 60, TRAMO: TINOGASTA - LA GRUTA, SECIÓN: KM1324,22 – KM1547,49, PROVINCIA DE CATAMARCA | G13: INICIADO | H13: SERVICIOS ECONOMICOS | I13: Transporte | J13: 1.6964 | K13: 1.6964 | L13: 0 | M13: 0 | N13: 0
A14: 50 | B14: Ministerio de Economía | C14: 604 | D14: Dirección Nacional de Vialidad | E14: 123878 | F14: REHABILITACIÓN Y CONSTRUCCIÓN DE OBRAS DE ARTE Y REPARACIÓN DE ASENTAMIENTOS EN CALZADA Y BANQUINAS, RUTA 38, TRAMO: EL PORTEZUELO - LA MERCED, SECCIÓN: KM 594,44 - KM. 636,50, PROVINCIA DE CATAMARCA | G14: INICIADO | H14: SERVICIOS ECONOMICOS | I14: Transporte | J14: 25.640224 | K14: 25.640224 | L14: 0 | M14: 0 | N14: 0
A15: 50 | B15: Ministerio de Economía | C15: 604 | D15: Dirección Nacional de Vialidad | E15: 130645 | F15: PAVIMENTACIÓN RUTA NACIONAL N° 40, TRAMO: LTE. C/ LA RIOJA - BELEN, SECCION: KM. 4072,91 - KM. 4078,21. PROVINCIA DE CATAMARCA | G15: INICIADO | H15: SERVICIOS ECONOMICOS | I15: Transporte | J15: 70.342421 | K15: 70.342421 | L15: 0 | M15: 0 | N15: 0
A16: 50 | B16: Ministerio de Economía | C16: 604 | D16: Dirección Nacional de Vialidad | E16: 141230 | F16: REPAVIMENTACIÓN DE CALZADA CON RECONSTRUCCIÓN Y PAVIMENTACIÓN DE BANQUINAS, RN N°38, LÍMITE LA RIOJA/CATAMARCA - RIO ONGOLI, KM 506,02 - KM 570,24, PROVINCIA DE CATAMARCA | G16: A INICIAR | H16: SERVICIOS ECONOMICOS | I16: Transporte | J16: 540.05268 | K16: 540.05268 | L16: 0 | M16: 0 | N16: 0
A17: 50 | B17: Ministerio de Economía | C17: 604 | D17: Dirección Nacional de Vialidad | E17: 154009 | F17: OBRAS DE MANTENIMIENTO POR ADMINISTRACIÓN EN LOS 24 DISTRITOS DE LA DIRECCIÓN NACIONAL DE VIALIDAD (AÑO 2027) | G17: A INICIAR | H17: SERVICIOS ECONOMICOS | I17: Transporte | J17: 2421.1047 | K17: 2421.1047 | L17: 0 | M17: 0 | N17: 0
A18: 50 | B18: Ministerio de Economía | C18: 604 | D18: Dirección Nacional de Vialidad | E18: 154020 | F18: DESARROLLO DE INFRAESTRUCTURA DE MANTENIMIENTO Y EQUIPAMIENTO BÁSICO EN LOS 24 DISTRITOS DE LA DIRECCIÓN NACIONAL DE VIALIDAD (AÑO 2027) | G18: A INICIAR | H18: SERVICIOS ECONOMICOS | I18: Transporte | J18: 250.73415 | K18: 250.73415 | L18: 0 | M18: 0 | N18: 0
... A34: 88 | B34: Ministerio de Capital Humano | C34: 330 | D34: Secretaría de Educación | E34: 154368 | F34: EQUIPAMIENTOS DE TALLERES EN INSTITUCIONES DE EDUCACION TECNICO PROFESIONAL PARA LAS PRACTICAS FORMATIVAS | G34: A INICIAR | H34: SERVICIOS SOCIALES | I34: Educación y Cultura | J34: 41.64 | K34: 0 | L34: 41.64 | M34: 0 | N34: 0

Sheet Córdoba
A1: PLAN NACIONAL DE INVERSIONES PÚBLICAS 2027 - 2029 - Provincia de Córdoba
A2: montos en millones de pesos
A3: GASTO DE INVERSIÓN DE LA ADMINISTRACIÓN PÚBLICA NACIONAL POR PROYECTO
A4: Jurisdicción | C4: SAF | E4: Proyecto de Inversión (BAPIN) | G4: Estado | H4: Finalidad | I4: Función | J4: Monto 2027 Proyecto de ley
A5: Cód. | B5: Descripción | C5: Cód. | D5: Descripción | E5: Cod. BAPIN | F5: Denominación | J5: $ | K5: IRD | L5: Transf. Capital | M5: Inv. Financiera | N5: Aplic. Financ.
A6: GASTO DE INVERSIÓN DE LA ADMINISTRACIÓN PÚBLICA NACIONAL POR PROYECTO EN LA PROVINCIA DE CÓRDOBA | J6: =+SUM(J7:J43) -> 60142.584 | K6: =+SUM(K7:K43) -> 58874.072 | L6: =+SUM(L7:L43) -> 1268.5121 | M6: =+SUM(M7:M43) -> 0 | N6: =+SUM(N7:N43) -> 0
A7: 10 | B7: Ministerio Público | C7: 360 | D7: Procuración General de la Nación | E7: 150663 | F7: ADQUISICIÓN DE EQUIPAMIENTO PARA LA CREACIÓN DE NUEVAS SEDES DEL RÉGIMEN ACUSATORIO EN EL TERRITORIO NACIONAL | G7: A INICIAR | H7: ADMINISTRACION GUBERNAMENTAL | I7: Judicial | J7: 55.2552 | K7: 55.2552 | L7: 0 | M7: 0 | N7: 0
A8: 25 | B8: Jefatura de Gabinete de Ministros | C8: 106 | D8: Comisión Nacional de Actividades Espaciales | E8: 154709 | F8: ADQUISICIÓN DE EQUIPAMIENTO DE OFICINA PARA LOS PROYECTOS Y PROGRAMAS DEL PLAN NACIONAL ESPACIAL - 2027 | G8: A INICIAR | H8: SERVICIOS SOCIALES | I8: Ciencia, Tecnología e Innovación | J8: 80 | K8: 80 | L8: 0 | M8: 0 | N8: 0
A9: 25 | B9: Jefatura de Gabinete de Ministros | C9: 106 | D9: Comisión Nacional de Actividades Espaciales | E9: 154741 | F9: ADQUISICIÓN DE EQUIPAMIENTO VINCULADO CON LA GENERACIÓN Y USO DE LA INFORMACIÓN DE ORIGEN ESPACIAL - CÓRDOBA - 2027 | G9: A INICIAR | H9: SERVICIOS SOCIALES | I9: Ciencia, Tecnología e Innovación | J9: 40000 | K9: 40000 | L9: 0 | M9: 0 | N9: 0
A10: 25 | B10: Jefatura de Gabinete de Ministros | C10: 106 | D10: Comisión Nacional de Actividades Espaciales | E10: 154760 | F10: ADQUISICIÓN DE EQUIPAMIENTO VINCULADO A LA OPERACIÓN DE ESTACIONES TERRENAS Y PRESTACIÓN DE SERVICIOS TECNOLÓGICOS - CÓRDOBA - 2027 | G10: A INICIAR | H10: SERVICIOS SOCIALES | I10: Ciencia, Tecnología e Innovación | J10: 400 | K10: 400 | L10: 0 | M10: 0 | N10: 0
A11: 25 | B11: Jefatura de Gabinete de Ministros | C11: 106 | D11: Comisión Nacional de Actividades Espaciales | E11: 154958 | F11: EQUIPAMIENTO BASICO DE OFICINA PAR EL NORMAL FUNCIONAMIENTO DEL ORGANISMO | G11: A INICIAR | H11: SERVICIOS SOCIALES | I11: Ciencia, Tecnología e Innovación | J11: 70 | K11: 70 | L11: 0 | M11: 0 | N11: 0
A12: 25 | B12: Jefatura de Gabinete de Ministros | C12: 107 | D12: Administración de Parques Nacionales | E12: 154714 | F12: ADQUISICIÓN DE EQUIPAMIENTO BÁSICO DE OFICINA PARA TODAS LAS DEPENDENCIAS DE LA ADMINISTRACIÓN DE PARQUES NACIONALES - AÑO 2027 | G12: A INICIAR | H12: SERVICIOS ECONOMICOS | I12: Ecología y Desarrollo Sostenible | J12: 117.892 | K12: 117.892 | L12: 0 | M12: 0 | N12: 0
A13: 25 | B13: Jefatura de Gabinete de Ministros | C13: 107 | D13: Administración de Parques Nacionales | E13: 154718 | F13: ADQUISICIÓN DE EQUIPAMIENTO PARA MANTENIMIENTO Y OPERACIÓN DE TODAS LAS ÁREAS PROTEGIDAS DE LA ADMINISTRACIÓN DE PARQUES NACIONALES - NACIONAL - AÑO 2027 | G13: A INICIAR | H13: SERVICIOS ECONOMICOS | I13: Ecología y Desarrollo Sostenible | J13: 214.89063 | K13: 214.89063 | L13: 0 | M13: 0 | N13: 0
A14: 25 | B14: Jefatura de Gabinete de Ministros | C14: 107 | D14: Administración de Parques Nacionales | E14: 154734 | F14: ADQUISICIÓN DE EQUIPAMIENTO PARA PROYECTOS DE CONSERVACIÓN DE LA DIRECCION NACIONAL DE CONSERVACION Y DIRECCIONES REGIONALES - AÑO 2027 | G14: A INICIAR | H14: SERVICIOS ECONOMICOS | I14: Ecología y Desarrollo Sostenible | J14: 129.64243 | K14: 129.64243 | L14: 0 | M14: 0 | N14: 0
A15: 25 | B15: Jefatura de Gabinete de Ministros | C15: 107 | D15: Administración de Parques Nacionales | E15: 154737 | F15: ADQUISICIÓN DE EQUIPAMIENTO PARA MANTENIMIENTO Y OPERACIÓN DE LA DIRECCIÓN DE FORMACIÓN Y CAPACITACIÓN - CORDOBA - AÑO 2027 | G15: A INICIAR | H15: SERVICIOS ECONOMICOS | I15: Ecología y Desarrollo Sostenible | J15: 459.18037 | K15: 459.18037 | L15: 0 | M15: 0 | N15: 0
A16: 45 | B16: Ministerio de Defensa | C16: 374 | D16: Estado Mayor General del Ejército Argentino (EMGE) | E16: 153697 | F16: ADQUISICIÓN DE UN (01) SISTEMA DE SIMULADOR DE REALIDAD VIRTUAL DE ALTA INFILTRACIÓN HALO/HAHO PARA LA IVTA BRIGADA PARACAIDISTA. CIUDAD DE CÓRDOBA, PCIA DE CÓRDOBA. | G16: A INICIAR | H16: SERVICIOS DE DEFENSA Y SEGURIDAD | I16: Defensa | J16: 1225 | K16: 1225 | L16: 0 | M16: 0 | N16: 0
A17: 45 | B17: Ministerio de Defensa | C17: 381 | D17: Estado Mayor General de la Fuerza Aérea Argentina (EMGFA) | E17: 115919 | F17: DESARROLLO DE SISTEMAS DE PROPULSION MULTIPROPOSITO PARA LA FUERZA AEREA EN CORDOBA PROVINCIA DE CORDOBA | G17: INICIADO | H17: SERVICIOS DE DEFENSA Y SEGURIDAD | I17: Defensa | J17: 311.22252 | K17: 311.22252 | L17: 0 | M17: 0 | N17: 0
A18: 50 | B18: Ministerio de Economía | C18: 604 | D18: Dirección Nacional de Vialidad | E18: 31030 | F18: CONSTRUCCIÓN DE AUTOPISTA EN VARIANTE RN N° 158, TRAMO: RN N°9 - R.P. N°2, SECCIÓN: INTERCAMBIADOR CON AU0009 - INTERCAMBIADOR RP N°2, PROVINCIA: CÓRDOBA | G18: INICIADO | H18: SERVICIOS ECONOMICOS | I18: Transporte | J18: 4156.18 | K18: 4156.18 | L18: 0 | M18: 0 | N18: 0
... A43: 91 | B43: Obligaciones a Cargo del Tesoro | C43: 356 | D43: Obligaciones a Cargo del Tesoro | E43: 154475 | F43: TRANSFERENCIA DE CAPITAL A FADEA (2027) | G43: A INICIAR | H43: SERVICIOS ECONOMICOS | I43: Industria | J43: 219 | K43: 0 | L43: 219 | M43: 0 | N43: 0

Sheet Corrientes
A1: PLAN NACIONAL DE INVERSIONES PÚBLICAS 2027 - 2029 - Provincia de Corrientes
A2: montos en millones de pesos
A3: GASTO DE INVERSIÓN DE LA ADMINISTRACIÓN PÚBLICA NACIONAL POR PROYECTO
A4: Jurisdicción | C4: SAF | E4: Proyecto de Inversión (BAPIN) | G4: Estado | H4: Finalidad | I4: Función | J4: Monto 2027 Proyecto de ley
A5: Cód. | B5: Descripción | C5: Cód. | D5: Descripción | E5: Cod. BAPIN | F5: Denominación | J5: $ | K5: IRD | L5: Transf. Capital | M5: Inv. Financiera | N5: Aplic. Financ.
A6: GASTO DE INVERSIÓN DE LA ADMINISTRACIÓN PÚBLICA NACIONAL POR PROYECTO EN LA PROVINCIA DE CORRIENTES | J6: =+SUM(J7:J36) -> 30141.515 | K6: =+SUM(K7:K36) -> 27828.949 | L6: =+SUM(L7:L36) -> 2312.5654 | M6: =+SUM(M7:M36) -> 0 | N6: =+SUM(N7:N36) -> 0
A7: 10 | B7: Ministerio Público | C7: 360 | D7: Procuración General de la Nación | E7: 150663 | F7: ADQUISICIÓN DE EQUIPAMIENTO PARA LA CREACIÓN DE NUEVAS SEDES DEL RÉGIMEN ACUSATORIO EN EL TERRITORIO NACIONAL | G7: A INICIAR | H7: ADMINISTRACION GUBERNAMENTAL | I7: Judicial | J7: 89.64956 | K7: 89.64956 | L7: 0 | M7: 0 | N7: 0
A8: 10 | B8: Ministerio Público | C8: 361 | D8: Defensoría General de la Nación | E8: 146564 | F8: REFACCIÓN DE INMUEBLE PARA SEDE DE LA DEFENSORÍA DE CORRIENTES | G8: A INICIAR | H8: ADMINISTRACION GUBERNAMENTAL | I8: Judicial | J8: 128.13068 | K8: 128.13068 | L8: 0 | M8: 0 | N8: 0
A9: 25 | B9: Jefatura de Gabinete de Ministros | C9: 107 | D9: Administración de Parques Nacionales | E9: 154714 | F9: ADQUISICIÓN DE EQUIPAMIENTO BÁSICO DE OFICINA PARA TODAS LAS DEPENDENCIAS DE LA ADMINISTRACIÓN DE PARQUES NACIONALES - AÑO 2027 | G9: A INICIAR | H9: SERVICIOS ECONOMICOS | I9: Ecología y Desarrollo Sostenible | J9: 82.711334 | K9: 82.711334 | L9: 0 | M9: 0 | N9: 0
A10: 25 | B10: Jefatura de Gabinete de Ministros | C10: 107 | D10: Administración de Parques Nacionales | E10: 154718 | F10: ADQUISICIÓN DE EQUIPAMIENTO PARA MANTENIMIENTO Y OPERACIÓN DE TODAS LAS ÁREAS PROTEGIDAS DE LA ADMINISTRACIÓN DE PARQUES NACIONALES - NACIONAL - AÑO 2027 | G10: A INICIAR | H10: SERVICIOS ECONOMICOS | I10: Ecología y Desarrollo Sostenible | J10: 33.202273 | K10: 33.202273 | L10: 0 | M10: 0 | N10: 0
A11: 25 | B11: Jefatura de Gabinete de Ministros | C11: 107 | D11: Administración de Parques Nacionales | E11: 154734 | F11: ADQUISICIÓN DE EQUIPAMIENTO PARA PROYECTOS DE CONSERVACIÓN DE LA DIRECCION NACIONAL DE CONSERVACION Y DIRECCIONES REGIONALES - AÑO 2027 | G11: A INICIAR | H11: SERVICIOS ECONOMICOS | I11: Ecología y Desarrollo Sostenible | J11: 48.272808 | K11: 48.272808 | L11: 0 | M11: 0 | N11: 0
A12: 50 | B12: Ministerio de Economía | C12: 377 | D12: Infraestructura Económica y Social | E12: 101627 | F12: REMODELACIÓN Y PROLONGACIÓN DE COLECTORES CLOACALES Y CONSTRUCCCIÓN DE PLANTA DEPURADORA CLOACAL DE LA CAPITAL DE CORRIENTES - PROVINCIA DE CORRIENTES | G12: INICIADO | H12: SERVICIOS SOCIALES | I12: Agua Potable y Alcantarillado | J12: 6894.6043 | K12: 6894.6043 | L12: 0 | M12: 0 | N12: 0
A13: 50 | B13: Ministerio de Economía | C13: 377 | D13: Infraestructura Económica y Social | E13: 133512 | F13: AMPLIACIÓN DE RED INTEGRAL DE CLOACAS - PASO DE LA PATRIA - CORRIENTES | G13: INICIADO | H13: SERVICIOS SOCIALES | I13: Agua Potable y Alcantarillado | J13: 0.253412 | K13: 0 | L13: 0.253412 | M13: 0 | N13: 0
A14: 50 | B14: Ministerio de Economía | C14: 377 | D14: Infraestructura Económica y Social | E14: 153554 | F14: CONSTRUCCIÓN DE VIVIENDAS SUSTENTABLES EN ZONA BIOCLIMÁTICA CÁLIDO – ZONA IIB – PASO DE LOS LIBRES – CORRIENTES. | G14: A INICIAR | H14: SERVICIOS SOCIALES | I14: Vivienda y Urbanismo | J14: 2625.5019 | K14: 2625.5019 | L14: 0 | M14: 0 | N14: 0
A15: 50 | B15: Ministerio de Economía | C15: 604 | D15: Dirección Nacional de Vialidad | E15: 109011 | F15: CREMA MALLA 535 - OBRAS DE RECUPERACIÓN Y MANTENIMIENTO EN RUTA RN 0012, TRAMO: EMP. R.P. Nº25 - INTERSECCIÓN R.N.Nº 123 Y RUTA RN 0123, TRAMO: EMP. R.P. Nº 27 - INTERSECCION R. N. Nº12 - PROVINCIA DE CORRIENTES (BID 3050) | G15: INICIADO | H15: SERVICIOS ECONOMICOS | I15: Transporte | J15: 482.01033 | K15: 482.01033 | L15: 0 | M15: 0 | N15: 0
A16: 50 | B16: Ministerio de Economía | C16: 604 | D16: Dirección Nacional de Vialidad | E16: 109097 | F16: DUPLICACIÓN DE CALZADA Y CONSTRUCCIÓN DE COLECTORAS. RNN°12. TRAMO: EMPEDRADO- ITATI. SECC: TRAVESÍA URBANA POR CORRIENTES (KM 1023.00 - KM 1036,00). PROV. DE CORRIENTES. | G16: INICIADO | H16: SERVICIOS ECONOMICOS | I16: Transporte | J16: 9263.64 | K16: 9263.64 | L16: 0 | M16: 0 | N16: 0
A17: 50 | B17: Ministerio de Economía | C17: 604 | D17: Dirección Nacional de Vialidad | E17: 111548 | F17: OBRA CONSTRUCCIÓN DE PUENTE - RUTA NAC Nº 12 - TRAMO ESQUINA - GOYA - SECCION PUENTE SOBRE ARROYO GUAZU (KM. 712.71) - PROVINCIA DE CORRIENTES | G17: INICIADO | H17: SERVICIOS ECONOMICOS | I17: Transporte | J17: 7.004129 | K17: 7.004129 | L17: 0 | M17: 0 | N17: 0
A18: 50 | B18: Ministerio de Economía | C18: 604 | D18: Dirección Nacional de Vialidad | E18: 128772 | F18: REPAVIMENTACIÓN RPN°126; TRAMO: SAUCE (RPN°23)- CURUZÚ CUATIÁ; PROVINCIA DE CORRIENTES (CAF 10703) | G18: INICIADO | H18: SERVICIOS ECONOMICOS | I18: Transporte | J18: 1090.9328 | K18: 0 | L18: 1090.9328 | M18: 0 | N18: 0
... A36: 88 | B36: Ministerio de Capital Humano | C36: 330 | D36: Secretaría de Educación | E36: 154368 | F36: EQUIPAMIENTOS DE TALLERES EN INSTITUCIONES DE EDUCACION TECNICO PROFESIONAL PARA LAS PRACTICAS FORMATIVAS | G36: A INICIAR | H36: SERVICIOS SOCIALES | I36: Educación y Cultura | J36: 49.32 | K36: 0 | L36: 49.32 | M36: 0 | N36: 0

Sheet Entre Rios
A1: PLAN NACIONAL DE INVERSIONES PÚBLICAS 2027 - 2029 - Provincia de Entre Rios
A2: montos en millones de pesos
A3: GASTO DE INVERSIÓN DE LA ADMINISTRACIÓN PÚBLICA NACIONAL POR PROYECTO
A4: Jurisdicción | C4: SAF | E4: Proyecto de Inversión (BAPIN) | G4: Estado | H4: Finalidad | I4: Función | J4: Monto 2027 Proyecto de ley
A5: Cód. | B5: Descripción | C5: Cód. | D5: Descripción | E5: Cod. BAPIN | F5: Denominación | J5: $ | K5: IRD | L5: Transf. Capital | M5: Inv. Financiera | N5: Aplic. Financ.
A6: GASTO DE INVERSIÓN DE LA ADMINISTRACIÓN PÚBLICA NACIONAL POR PROYECTO EN LA PROVINCIA DE ENTRE RIOS | J6: =+SUM(J7:J34) -> 24534.865 | K6: =+SUM(K7:K34) -> 23693.357 | L6: =+SUM(L7:L34) -> 841.50789 | M6: =+SUM(M7:M34) -> 0 | N6: =+SUM(N7:N34) -> 0
A7: 10 | B7: Ministerio Público | C7: 360 | D7: Procuración General de la Nación | E7: 150663 | F7: ADQUISICIÓN DE EQUIPAMIENTO PARA LA CREACIÓN DE NUEVAS SEDES DEL RÉGIMEN ACUSATORIO EN EL TERRITORIO NACIONAL | G7: A INICIAR | H7: ADMINISTRACION GUBERNAMENTAL | I7: Judicial | J7: 81.65248 | K7: 81.65248 | L7: 0 | M7: 0 | N7: 0
A8: 25 | B8: Jefatura de Gabinete de Ministros | C8: 107 | D8: Administración de Parques Nacionales | E8: 154714 | F8: ADQUISICIÓN DE EQUIPAMIENTO BÁSICO DE OFICINA PARA TODAS LAS DEPENDENCIAS DE LA ADMINISTRACIÓN DE PARQUES NACIONALES - AÑO 2027 | G8: A INICIAR | H8: SERVICIOS ECONOMICOS | I8: Ecología y Desarrollo Sostenible | J8: 9.819396 | K8: 9.819396 | L8: 0 | M8: 0 | N8: 0
A9: 25 | B9: Jefatura de Gabinete de Ministros | C9: 107 | D9: Administración de Parques Nacionales | E9: 154718 | F9: ADQUISICIÓN DE EQUIPAMIENTO PARA MANTENIMIENTO Y OPERACIÓN DE TODAS LAS ÁREAS PROTEGIDAS DE LA ADMINISTRACIÓN DE PARQUES NACIONALES - NACIONAL - AÑO 2027 | G9: A INICIAR | H9: SERVICIOS ECONOMICOS | I9: Ecología y Desarrollo Sostenible | J9: 83.865173 | K9: 83.865173 | L9: 0 | M9: 0 | N9: 0
A10: 50 | B10: Ministerio de Economía | C10: 377 | D10: Infraestructura Económica y Social | E10: 112431 | F10: AMPLIACIÓN DEL SISTEMA DE DESAGÜES CLOACALES PARA LA LOCALIDAD DE VILLAGUAY - ENTRE RÍOS (PROAS II) | G10: INICIADO | H10: SERVICIOS SOCIALES | I10: Agua Potable y Alcantarillado | J10: 5605.5713 | K10: 5605.5713 | L10: 0 | M10: 0 | N10: 0
A11: 50 | B11: Ministerio de Economía | C11: 604 | D11: Dirección Nacional de Vialidad | E11: 51586 | F11: CONSTRUCCIÓN DE LA RNN° 18. TRAMO II: COLECTORAS PAVIMENTADAS (KM 67,75) - INTERSECCIÓN R.P.N.° 20 (KM 135,60) . PROVINCIA DE ENTRE RÍOS. | G11: INICIADO | H11: SERVICIOS ECONOMICOS | I11: Transporte | J11: 934.35356 | K11: 934.35356 | L11: 0 | M11: 0 | N11: 0
A12: 50 | B12: Ministerio de Economía | C12: 604 | D12: Dirección Nacional de Vialidad | E12: 108950 | F12: MALLA 513C - RUTA NACIONAL Nº 0012, TRAMO: ACCESO GALARZA - INTERSECCIÓN RUTA PROVINCIAL Nº 32, PROVINCIA DE ENTRE RÍOS (BID 5378) | G12: INICIADO | H12: SERVICIOS ECONOMICOS | I12: Transporte | J12: 6153.8946 | K12: 6153.8946 | L12: 0 | M12: 0 | N12: 0
A13: 50 | B13: Ministerio de Economía | C13: 604 | D13: Dirección Nacional de Vialidad | E13: 109095 | F13: CORREDOR RN 18 PARANÁ - CONCORDIA | G13: INICIADO | H13: SERVICIOS ECONOMICOS | I13: Transporte | J13: 648.93238 | K13: 648.93238 | L13: 0 | M13: 0 | N13: 0
A14: 50 | B14: Ministerio de Economía | C14: 604 | D14: Dirección Nacional de Vialidad | E14: 109138 | F14: PAVIMENTACIÓN VINCULACIÓN RUTA NACIONAL N°12 CON AV. CIRCUNVALACIÓN DE PARANÁ; TRAMO: PUENTE S/Aº SAUCESITO - AV. ALMAFUERTE, PROVINCIA DE ENTRE RÍOS | G14: INICIADO | H14: SERVICIOS ECONOMICOS | I14: Transporte | J14: 291.22464 | K14: 291.22464 | L14: 0 | M14: 0 | N14: 0
A15: 50 | B15: Ministerio de Economía | C15: 604 | D15: Dirección Nacional de Vialidad | E15: 129187 | F15: REHABILITACIÓN DE CALZADA RUTA NACIONAL N° 136 - TRAMO: EMP. R.P.N°20 – INICIO VIADUCTO PUENTE INTERNACIONAL - SECCIÓN: KM. 8,50 – KM. 40,18 - PROVINCIA: ENTRE RÍOS | G15: INICIADO | H15: SERVICIOS ECONOMICOS | I15: Transporte | J15: 471.27675 | K15: 471.27675 | L15: 0 | M15: 0 | N15: 0
A16: 50 | B16: Ministerio de Economía | C16: 604 | D16: Dirección Nacional de Vialidad | E16: 130513 | F16: OBRAS BÁSICAS, REHABILITACIÓN Y RECONSTRUCCIÓN DE CALZADA EN RP S/ Nº, TRAMO: ACCESO A PARANÁ - ACCESO A CRESPO, SECCIÓN: ACCESO A GRAL. RACEDO - ACCESO A CRESPO, ENTRE RÍOS | G16: INICIADO | H16: SERVICIOS ECONOMICOS | I16: Transporte | J16: 211.3509 | K16: 0 | L16: 211.3509 | M16: 0 | N16: 0
A17: 50 | B17: Ministerio de Economía | C17: 604 | D17: Dirección Nacional de Vialidad | E17: 154009 | F17: OBRAS DE MANTENIMIENTO POR ADMINISTRACIÓN EN LOS 24 DISTRITOS DE LA DIRECCIÓN NACIONAL DE VIALIDAD (AÑO 2027) | G17: A INICIAR | H17: SERVICIOS ECONOMICOS | I17: Transporte | J17: 4675.4471 | K17: 4675.4471 | L17: 0 | M17: 0 | N17: 0
A18: 50 | B18: Ministerio de Economía | C18: 604 | D18: Dirección Nacional de Vialidad | E18: 154011 | F18: OBRAS DE MANTENIMIENTO EN DISTRITO ENTRE RÍOS (AÑO 2027) | G18: A INICIAR | H18: SERVICIOS ECONOMICOS | I18: Transporte | J18: 763.85873 | K18: 763.85873 | L18: 0 | M18: 0 | N18: 0
... A34: 88 | B34: Ministerio de Capital Humano | C34: 330 | D34: Secretaría de Educación | E34: 154368 | F34: EQUIPAMIENTOS DE TALLERES EN INSTITUCIONES DE EDUCACION TECNICO PROFESIONAL PARA LAS PRACTICAS FORMATIVAS | G34: A INICIAR | H34: SERVICIOS SOCIALES | I34: Educación y Cultura | J34: 57.48 | K34: 0 | L34: 57.48 | M34: 0 | N34: 0

Sheet Formosa
A1: PLAN NACIONAL DE INVERSIONES PÚBLICAS 2027 - 2029 - Provincia de Formosa
A2: montos en millones de pesos
A3: GASTO DE INVERSIÓN DE LA ADMINISTRACIÓN PÚBLICA NACIONAL POR PROYECTO
A4: Jurisdicción | C4: SAF | E4: Proyecto de Inversión (BAPIN) | G4: Estado | H4: Finalidad | I4: Función | J4: Monto 2027 Proyecto de ley
A5: Cód. | B5: Descripción | C5: Cód. | D5: Descripción | E5: Cod. BAPIN | F5: Denominación | J5: $ | K5: IRD | L5: Transf. Capital | M5: Inv. Financiera | N5: Aplic. Financ.
A6: GASTO DE INVERSIÓN DE LA ADMINISTRACIÓN PÚBLICA NACIONAL POR PROYECTO EN LA PROVINCIA DE FORMOSA | J6: =+SUM(J7:J35) -> 13170.687 | K6: =+SUM(K7:K35) -> 12512.489 | L6: =+SUM(L7:L35) -> 658.19881 | M6: =+SUM(M7:M35) -> 0 | N6: =+SUM(N7:N35) -> 0
A7: 10 | B7: Ministerio Público | C7: 360 | D7: Procuración General de la Nación | E7: 150663 | F7: ADQUISICIÓN DE EQUIPAMIENTO PARA LA CREACIÓN DE NUEVAS SEDES DEL RÉGIMEN ACUSATORIO EN EL TERRITORIO NACIONAL | G7: A INICIAR | H7: ADMINISTRACION GUBERNAMENTAL | I7: Judicial | J7: 20.0928 | K7: 20.0928 | L7: 0 | M7: 0 | N7: 0
A8: 25 | B8: Jefatura de Gabinete de Ministros | C8: 107 | D8: Administración de Parques Nacionales | E8: 154714 | F8: ADQUISICIÓN DE EQUIPAMIENTO BÁSICO DE OFICINA PARA TODAS LAS DEPENDENCIAS DE LA ADMINISTRACIÓN DE PARQUES NACIONALES - AÑO 2027 | G8: A INICIAR | H8: SERVICIOS ECONOMICOS | I8: Ecología y Desarrollo Sostenible | J8: 57.81228 | K8: 57.81228 | L8: 0 | M8: 0 | N8: 0
A9: 25 | B9: Jefatura de Gabinete de Ministros | C9: 107 | D9: Administración de Parques Nacionales | E9: 154718 | F9: ADQUISICIÓN DE EQUIPAMIENTO PARA MANTENIMIENTO Y OPERACIÓN DE TODAS LAS ÁREAS PROTEGIDAS DE LA ADMINISTRACIÓN DE PARQUES NACIONALES - NACIONAL - AÑO 2027 | G9: A INICIAR | H9: SERVICIOS ECONOMICOS | I9: Ecología y Desarrollo Sostenible | J9: 208.1927 | K9: 208.1927 | L9: 0 | M9: 0 | N9: 0
A10: 41 | B10: Ministerio de Seguridad Nacional | C10: 380 | D10: Prefectura Naval Argentina (PNA) | E10: 73744 | F10: REMODELACIÓN DEL COMPLEJO FRONTERIZO PUERTO PILCOMAYO - PUERTO ITÁ ENRAMADA (ARG - 28/2016) | G10: INICIADO | H10: SERVICIOS DE DEFENSA Y SEGURIDAD | I10: Seguridad Interior | J10: 547.4782 | K10: 547.4782 | L10: 0 | M10: 0 | N10: 0
A11: 50 | B11: Ministerio de Economía | C11: 604 | D11: Dirección Nacional de Vialidad | E11: 108933 | F11: CREMA MALLA 542 - OBRAS DE RECUPERACIÓN Y MANTENIMIENTO EN RUTA RN 0081 - PROVINCIA DE FORMOSA | G11: INICIADO | H11: SERVICIOS ECONOMICOS | I11: Transporte | J11: 247.80001 | K11: 247.80001 | L11: 0 | M11: 0 | N11: 0
A12: 50 | B12: Ministerio de Economía | C12: 604 | D12: Dirección Nacional de Vialidad | E12: 108959 | F12: CREMA MALLA 544 - OBRAS DE RECUPERACIÓN Y MANTENIMIENTO EN RUTA RN 0011 / RN A011 - PROVINCIA DE FORMOSA (BID 3050) | G12: INICIADO | H12: SERVICIOS ECONOMICOS | I12: Transporte | J12: 643.74803 | K12: 643.74803 | L12: 0 | M12: 0 | N12: 0
A13: 50 | B13: Ministerio de Economía | C13: 604 | D13: Dirección Nacional de Vialidad | E13: 123882 | F13: RÍO BERMEJO - DEFENSA DE MÁRGEN LADO FORMOSA, RUTA 95, TRAMO: CASTELLI – LÍMITE CHACO/FORMOSA, SECCIÓN: KM 1.278,90 – KM 1.288,31, PROVINCIA DE FORMOSA | G13: A INICIAR | H13: SERVICIOS ECONOMICOS | I13: Transporte | J13: 220.89503 | K13: 220.89503 | L13: 0 | M13: 0 | N13: 0
A14: 50 | B14: Ministerio de Economía | C14: 604 | D14: Dirección Nacional de Vialidad | E14: 123897 | F14: DUPLICACIÓN DE CALZADA EN AUTOVÍA, RUTA NACIONAL N° 11, TRAMO: LIMITE CON LA PROVINCIA DE CHACO (KM 1.103,16) - EMPALME RUTA NACIONAL N°81 (KM 1.184,38), SECCIÓN: KM. 1.103,16 - KM 1.119,50. | G14: INICIADO | H14: SERVICIOS ECONOMICOS | I14: Transporte | J14: 1044.8002 | K14: 1044.8002 | L14: 0 | M14: 0 | N14: 0
A15: 50 | B15: Ministerio de Economía | C15: 604 | D15: Dirección Nacional de Vialidad | E15: 123898 | F15: DUPLICACIÓN DE CALZADA EN AUTOVÍA, RUTA NACIONAL N° 11, TRAMO: LIMITE CON LA PROVINCIA DE CHACO (KM 1.103,16) - EMPALME RUTA NACIONAL N°81 (KM 1.184,38), SECCIÓN: KM.1.119,50 - KM 1.140,00 | G15: INICIADO | H15: SERVICIOS ECONOMICOS | I15: Transporte | J15: 904.65403 | K15: 904.65403 | L15: 0 | M15: 0 | N15: 0
A16: 50 | B16: Ministerio de Economía | C16: 604 | D16: Dirección Nacional de Vialidad | E16: 129021 | F16: CONSTRUCCIÓN VIADUCTO SOBREELEVADO EN LA INTERSECCIÓN DE LA AVENIDA CIRCUNVALACIÓN GENDARMERÍA NACIONAL Y LA AVENIDA PRESIDENTE NÉSTOR KIRCHNER SOBRE LA RUTA NACIONAL N° 11, EN LA PROVINCIA DE FORMOSA. | G16: INICIADO | H16: SERVICIOS ECONOMICOS | I16: Transporte | J16: 100.54126 | K16: 0 | L16: 100.54126 | M16: 0 | N16: 0
A17: 50 | B17: Ministerio de Economía | C17: 604 | D17: Dirección Nacional de Vialidad | E17: 130215 | F17: AUTOVÍA SOBRE LA RUTA NACIONAL N° 11, DESDE LA ROTONDA DE LA VIRGEN DEL CARMEN HASTA LA INTERSECCIÓN DE LA RUTA NACIONAL N° 11 Y LA RUTA NACIONAL N° 81. PROVINCIA DE FORMOSA | G17: INICIADO | H17: SERVICIOS ECONOMICOS | I17: Transporte | J17: 1423.1234 | K17: 1423.1234 | L17: 0 | M17: 0 | N17: 0
A18: 50 | B18: Ministerio de Economía | C18: 604 | D18: Dirección Nacional de Vialidad | E18: 154009 | F18: OBRAS DE MANTENIMIENTO POR ADMINISTRACIÓN EN LOS 24 DISTRITOS DE LA DIRECCIÓN NACIONAL DE VIALIDAD (AÑO 2027) | G18: A INICIAR | H18: SERVICIOS ECONOMICOS | I18: Transporte | J18: 4191.2412 | K18: 4191.2412 | L18: 0 | M18: 0 | N18: 0
... A35: 88 | B35: Ministerio de Capital Humano | C35: 330 | D35: Secretaría de Educación | E35: 154368 | F35: EQUIPAMIENTOS DE TALLERES EN INSTITUCIONES DE EDUCACION TECNICO PROFESIONAL PARA LAS PRACTICAS FORMATIVAS | G35: A INICIAR | H35: SERVICIOS SOCIALES | I35: Educación y Cultura | J35: 49.2 | K35: 0 | L35: 49.2 | M35: 0 | N35: 0

Sheet Jujuy
A1: PLAN NACIONAL DE INVERSIONES PÚBLICAS 2027 - 2029 - Provincia de Jujuy
A2: montos en millones de pesos
A3: GASTO DE INVERSIÓN DE LA ADMINISTRACIÓN PÚBLICA NACIONAL POR PROYECTO
A4: Jurisdicción | C4: SAF | E4: Proyecto de Inversión (BAPIN) | G4: Estado | H4: Finalidad | I4: Función | J4: Monto 2027 Proyecto de ley
A5: Cód. | B5: Descripción | C5: Cód. | D5: Descripción | E5: Cod. BAPIN | F5: Denominación | J5: $ | K5: IRD | L5: Transf. Capital | M5: Inv. Financiera | N5: Aplic. Financ.
A6: GASTO DE INVERSIÓN DE LA ADMINISTRACIÓN PÚBLICA NACIONAL POR PROYECTO EN LA PROVINCIA DE JUJUY | J6: =+SUM(J7:J34) -> 47751.697 | K6: =+SUM(K7:K34) -> 45373.101 | L6: =+SUM(L7:L34) -> 2378.596 | M6: =+SUM(M7:M34) -> 0 | N6: =+SUM(N7:N34) -> 0
A7: 25 | B7: Jefatura de Gabinete de Ministros | C7: 107 | D7: Administración de Parques Nacionales | E7: 154714 | F7: ADQUISICIÓN DE EQUIPAMIENTO BÁSICO DE OFICINA PARA TODAS LAS DEPENDENCIAS DE LA ADMINISTRACIÓN DE PARQUES NACIONALES - AÑO 2027 | G7: A INICIAR | H7: SERVICIOS ECONOMICOS | I7: Ecología y Desarrollo Sostenible | J7: 16.247921 | K7: 16.247921 | L7: 0 | M7: 0 | N7: 0
A8: 25 | B8: Jefatura de Gabinete de Ministros | C8: 107 | D8: Administración de Parques Nacionales | E8: 154718 | F8: ADQUISICIÓN DE EQUIPAMIENTO PARA MANTENIMIENTO Y OPERACIÓN DE TODAS LAS ÁREAS PROTEGIDAS DE LA ADMINISTRACIÓN DE PARQUES NACIONALES - NACIONAL - AÑO 2027 | G8: A INICIAR | H8: SERVICIOS ECONOMICOS | I8: Ecología y Desarrollo Sostenible | J8: 18.273024 | K8: 18.273024 | L8: 0 | M8: 0 | N8: 0
A9: 50 | B9: Ministerio de Economía | C9: 377 | D9: Infraestructura Económica y Social | E9: 123418 | F9: CONSTRUCCIÓN EDIFICIO DE AULAS ETAPA II- MANZANA 1, UNIVERSIDAD NACIONAL DE JUJUY, EN LA LOCALIDAD DE DR MANUEL BELGRANO, PROVINCIA DE JUJUY | G9: INICIADO | H9: SERVICIOS SOCIALES | I9: Educación y Cultura | J9: 2000 | K9: 0 | L9: 2000 | M9: 0 | N9: 0
A10: 50 | B10: Ministerio de Economía | C10: 377 | D10: Infraestructura Económica y Social | E10: 136228 | F10: REDES COLECTORAS, CONEXIONES DOMICILIARIAS, PLANTA DE TRATAMIENTO LÍQUIDOS CLOACALES Y NEXOS CONECTORES - HUMAHUACA, JUJUY | G10: INICIADO | H10: SERVICIOS SOCIALES | I10: Agua Potable y Alcantarillado | J10: 2470.0611 | K10: 2470.0611 | L10: 0 | M10: 0 | N10: 0
A11: 50 | B11: Ministerio de Economía | C11: 604 | D11: Dirección Nacional de Vialidad | E11: 122708 | F11: CONSTRUCCIÓN DE AUTOPISTA EN DUPLICACIÓN Y REPAVIMENTACIÓN DE CALZADA EXISTENTE, RUTA NACIONAL N° 34, TRAMO: EMP. RUTA NAC. N° 66 – ACCESO NORTE A SAN PEDRO, PROVINCIA DE JUJUY - GRUPO2 (BIRF 8810) | G11: INICIADO | H11: SERVICIOS ECONOMICOS | I11: Transporte | J11: 34298.715 | K11: 34298.715 | L11: 0 | M11: 0 | N11: 0
A12: 50 | B12: Ministerio de Economía | C12: 604 | D12: Dirección Nacional de Vialidad | E12: 143041 | F12: CONSTRUCCIÓN DE PUENTE SOBRE Aº ZANJÓN Y ACCESOS SOBRE RUTA NACIONAL N° 34, TRAMO: RIO GRANDE - RIO LEDESMA, PROVINCIA DE JUJUY. | G12: A INICIAR | H12: SERVICIOS ECONOMICOS | I12: Transporte | J12: 397.76727 | K12: 397.76727 | L12: 0 | M12: 0 | N12: 0
A13: 50 | B13: Ministerio de Economía | C13: 604 | D13: Dirección Nacional de Vialidad | E13: 146544 | F13: OBRA FALTANTE GRUPO 1 - LOTE 1: DUPLICACIÓN DE CALZADA EN LA RUTA NACIONAL N°34, TRAMO: ACC. A SALTA - SAN PEDRO DE JUJUY, SECCIÓN: KM. 1149,74 - KM. 1176. PROVINCIA DE JUJUY. | G13: INICIADO | H13: SERVICIOS ECONOMICOS | I13: Transporte | J13: 781.56592 | K13: 781.56592 | L13: 0 | M13: 0 | N13: 0
A14: 50 | B14: Ministerio de Economía | C14: 604 | D14: Dirección Nacional de Vialidad | E14: 147832 | F14: OBRA DE MITIGACIÓN HIDRÁULICA, RUTA NACIONAL N° 34, TRAMO: KM. 1161,38 - KM. 1161,68. PROVINCIA DE JUJUY (BIRF 8810) | G14: INICIADO | H14: SERVICIOS ECONOMICOS | I14: Transporte | J14: 1.6964 | K14: 1.6964 | L14: 0 | M14: 0 | N14: 0
A15: 50 | B15: Ministerio de Economía | C15: 604 | D15: Dirección Nacional de Vialidad | E15: 147833 | F15: OBRA DE MITIGACIÓN HIDRÁULICA, RUTA NACIONAL N° 34, TRAMO: KM. 1160,83 - KM. 1161,13. PROVINCIA DE JUJUY (BIRF 8810) | G15: INICIADO | H15: SERVICIOS ECONOMICOS | I15: Transporte | J15: 1.6964 | K15: 1.6964 | L15: 0 | M15: 0 | N15: 0
A16: 50 | B16: Ministerio de Economía | C16: 604 | D16: Dirección Nacional de Vialidad | E16: 152302 | F16: MANTENIMIENTO RUTINARIO (TFO) 2025 - 2026 PROVINCIA DE JUJUY. RUTA NACIONAL N° 40 Y RUTA NACIONAL N° 52, TRAMO: A° CHURCALITO - LTE. CON CHILE / T-01: CGA. PAICONE - LTE, C/ BOLIVIA / T-01: LTE. CON SALTA - LA QUIACA. PROVINCIA DE JUJUY. | G16: A INICIAR | H16: SERVICIOS ECONOMICOS | I16: Transporte | J16: 990.46965 | K16: 990.46965 | L16: 0 | M16: 0 | N16: 0
A17: 50 | B17: Ministerio de Economía | C17: 604 | D17: Dirección Nacional de Vialidad | E17: 154009 | F17: OBRAS DE MANTENIMIENTO POR ADMINISTRACIÓN EN LOS 24 DISTRITOS DE LA DIRECCIÓN NACIONAL DE VIALIDAD (AÑO 2027) | G17: A INICIAR | H17: SERVICIOS ECONOMICOS | I17: Transporte | J17: 2124.346 | K17: 2124.346 | L17: 0 | M17: 0 | N17: 0
A18: 50 | B18: Ministerio de Economía | C18: 604 | D18: Dirección Nacional de Vialidad | E18: 154020 | F18: DESARROLLO DE INFRAESTRUCTURA DE MANTENIMIENTO Y EQUIPAMIENTO BÁSICO EN LOS 24 DISTRITOS DE LA DIRECCIÓN NACIONAL DE VIALIDAD (AÑO 2027) | G18: A INICIAR | H18: SERVICIOS ECONOMICOS | I18: Transporte | J18: 471.3802 | K18: 471.3802 | L18: 0 | M18: 0 | N18: 0
... A34: 88 | B34: Ministerio de Capital Humano | C34: 330 | D34: Secretaría de Educación | E34: 154368 | F34: EQUIPAMIENTOS DE TALLERES EN INSTITUCIONES DE EDUCACION TECNICO PROFESIONAL PARA LAS PRACTICAS FORMATIVAS | G34: A INICIAR | H34: SERVICIOS SOCIALES | I34: Educación y Cultura | J34: 40.2 | K34: 0 | L34: 40.2 | M34: 0 | N34: 0

Sheet La Pampa
A1: PLAN NACIONAL DE INVERSIONES PÚBLICAS 2027 - 2029 - Provincia de La Pampa
A2: montos en millones de pesos
A3: GASTO DE INVERSIÓN DE LA ADMINISTRACIÓN PÚBLICA NACIONAL POR PROYECTO
A4: Jurisdicción | C4: SAF | E4: Proyecto de Inversión (BAPIN) | G4: Estado | H4: Finalidad | I4: Función | J4: Monto 2027 Proyecto de ley
A5: Cód. | B5: Descripción | C5: Cód. | D5: Descripción | E5: Cod. BAPIN | F5: Denominación | J5: $ | K5: IRD | L5: Transf. Capital | M5: Inv. Financiera | N5: Aplic. Financ.
A6: GASTO DE INVERSIÓN DE LA ADMINISTRACIÓN PÚBLICA NACIONAL POR PROYECTO EN LA PROVINCIA DE LA PAMPA | J6: =+SUM(J7:J32) -> 6599.0195 | K6: =+SUM(K7:K32) -> 6269.5923 | L6: =+SUM(L7:L32) -> 329.42721 | M6: =+SUM(M7:M32) -> 0 | N6: =+SUM(N7:N32) -> 0
A7: 5 | B7: Poder Judicial de la Nación | C7: 320 | D7: Consejo de la Magistratura | E7: 68979 | F7: ADECUACIÓN DE EDIFICIO ADQUIRIDO - JUZGADO FEDERAL DE GENERAL PICO - CALLE 18 Nº 845, GRAL. PICO, PCIA. DE LA PAMPA. | G7: A INICIAR | H7: ADMINISTRACION GUBERNAMENTAL | I7: Judicial | J7: 263.16179 | K7: 263.16179 | L7: 0 | M7: 0 | N7: 0
A8: 5 | B8: Poder Judicial de la Nación | C8: 320 | D8: Consejo de la Magistratura | E8: 136401 | F8: AMPLIACIÓN Y ADECUACIÓN DE CONSTRUCCIÓN EXISTENTE. JUZGADO FEDERAL Y TRIBUNAL ORAL CRIMINAL FEDERAL DE SANTA ROSA - AV. SAN MARTIN OESTE 153 SANTA. ROSA, LA PAMPA | G8: A INICIAR | H8: ADMINISTRACION GUBERNAMENTAL | I8: Judicial | J8: 476.75112 | K8: 476.75112 | L8: 0 | M8: 0 | N8: 0
A9: 10 | B9: Ministerio Público | C9: 360 | D9: Procuración General de la Nación | E9: 150663 | F9: ADQUISICIÓN DE EQUIPAMIENTO PARA LA CREACIÓN DE NUEVAS SEDES DEL RÉGIMEN ACUSATORIO EN EL TERRITORIO NACIONAL | G9: A INICIAR | H9: ADMINISTRACION GUBERNAMENTAL | I9: Judicial | J9: 12.05568 | K9: 12.05568 | L9: 0 | M9: 0 | N9: 0
A10: 10 | B10: Ministerio Público | C10: 361 | D10: Defensoría General de la Nación | E10: 146543 | F10: CONSTRUCCIÓN DE INMUEBLE PARA SEDE LA DEFENSORÍA DE SANTA ROSA, LA PAMPA | G10: INICIADO | H10: ADMINISTRACION GUBERNAMENTAL | I10: Judicial | J10: 516.96194 | K10: 516.96194 | L10: 0 | M10: 0 | N10: 0
A11: 25 | B11: Jefatura de Gabinete de Ministros | C11: 107 | D11: Administración de Parques Nacionales | E11: 154714 | F11: ADQUISICIÓN DE EQUIPAMIENTO BÁSICO DE OFICINA PARA TODAS LAS DEPENDENCIAS DE LA ADMINISTRACIÓN DE PARQUES NACIONALES - AÑO 2027 | G11: A INICIAR | H11: SERVICIOS ECONOMICOS | I11: Ecología y Desarrollo Sostenible | J11: 10.243254 | K11: 10.243254 | L11: 0 | M11: 0 | N11: 0
A12: 25 | B12: Jefatura de Gabinete de Ministros | C12: 107 | D12: Administración de Parques Nacionales | E12: 154718 | F12: ADQUISICIÓN DE EQUIPAMIENTO PARA MANTENIMIENTO Y OPERACIÓN DE TODAS LAS ÁREAS PROTEGIDAS DE LA ADMINISTRACIÓN DE PARQUES NACIONALES - NACIONAL - AÑO 2027 | G12: A INICIAR | H12: SERVICIOS ECONOMICOS | I12: Ecología y Desarrollo Sostenible | J12: 19.426862 | K12: 19.426862 | L12: 0 | M12: 0 | N12: 0
A13: 50 | B13: Ministerio de Economía | C13: 604 | D13: Dirección Nacional de Vialidad | E13: 109029 | F13: CREMA MALLA 137 - OBRAS DE REHABILITACIÓN EN RUTA RN 0151 - PROVINCIA DE LA PAMPA | G13: INICIADO | H13: SERVICIOS ECONOMICOS | I13: Transporte | J13: 39.0172 | K13: 39.0172 | L13: 0 | M13: 0 | N13: 0
A14: 50 | B14: Ministerio de Economía | C14: 604 | D14: Dirección Nacional de Vialidad | E14: 121406 | F14: CONSERVACION MEJORATIVA, RUTA NAC. 151, TRAMO: LTE. C/RIO NEGRO - EMP. R.N.143, SECIÓN: KM 150,18 - KM 315,75, PROVINCIA DE LA PAMPA | G14: A INICIAR | H14: SERVICIOS ECONOMICOS | I14: Transporte | J14: 96.62864 | K14: 96.62864 | L14: 0 | M14: 0 | N14: 0
A15: 50 | B15: Ministerio de Economía | C15: 604 | D15: Dirección Nacional de Vialidad | E15: 146178 | F15: RUTA NACIONAL N° 22, TRAMO: BS.AS./LA PAMPA - LA PAMPA / RÍO NEGRO, SECCIÓN: KM 857.11- KM 857.23, TIPO DE OBRA: MANTENIMIENTO PUENTE S/ RÍO COLORADO, PROVINCIA DE LA PAMPA | G15: A INICIAR | H15: SERVICIOS ECONOMICOS | I15: Transporte | J15: 244.02035 | K15: 244.02035 | L15: 0 | M15: 0 | N15: 0
A16: 50 | B16: Ministerio de Economía | C16: 604 | D16: Dirección Nacional de Vialidad | E16: 154009 | F16: OBRAS DE MANTENIMIENTO POR ADMINISTRACIÓN EN LOS 24 DISTRITOS DE LA DIRECCIÓN NACIONAL DE VIALIDAD (AÑO 2027) | G16: A INICIAR | H16: SERVICIOS ECONOMICOS | I16: Transporte | J16: 1281.3405 | K16: 1281.3405 | L16: 0 | M16: 0 | N16: 0
A17: 50 | B17: Ministerio de Economía | C17: 604 | D17: Dirección Nacional de Vialidad | E17: 154016 | F17: OBRAS DE MANTENIMIENTO EN DISTRITO LA PAMPA (AÑO 2027) | G17: A INICIAR | H17: SERVICIOS ECONOMICOS | I17: Transporte | J17: 1330.1023 | K17: 1330.1023 | L17: 0 | M17: 0 | N17: 0
A18: 50 | B18: Ministerio de Economía | C18: 604 | D18: Dirección Nacional de Vialidad | E18: 154020 | F18: DESARROLLO DE INFRAESTRUCTURA DE MANTENIMIENTO Y EQUIPAMIENTO BÁSICO EN LOS 24 DISTRITOS DE LA DIRECCIÓN NACIONAL DE VIALIDAD (AÑO 2027) | G18: A INICIAR | H18: SERVICIOS ECONOMICOS | I18: Transporte | J18: 50.146829 | K18: 50.146829 | L18: 0 | M18: 0 | N18: 0
... A32: 88 | B32: Ministerio de Capital Humano | C32: 330 | D32: Secretaría de Educación | E32: 154368 | F32: EQUIPAMIENTOS DE TALLERES EN INSTITUCIONES DE EDUCACION TECNICO PROFESIONAL PARA LAS PRACTICAS FORMATIVAS | G32: A INICIAR | H32: SERVICIOS SOCIALES | I32: Educación y Cultura | J32: 16.08 | K32: 0 | L32: 16.08 | M32: 0 | N32: 0

Sheet La Rioja
A1: PLAN NACIONAL DE INVERSIONES PÚBLICAS 2027 - 2029 - Provincia de La Rioja
A2: montos en millones de pesos
A3: GASTO DE INVERSIÓN DE LA ADMINISTRACIÓN PÚBLICA NACIONAL POR PROYECTO
A4: Jurisdicción | C4: SAF | E4: Proyecto de Inversión (BAPIN) | G4: Estado | H4: Finalidad | I4: Función | J4: Monto 2027 Proyecto de ley
A5: Cód. | B5: Descripción | C5: Cód. | D5: Descripción | E5: Cod. BAPIN | F5: Denominación | J5: $ | K5: IRD | L5: Transf. Capital | M5: Inv. Financiera | N5: Aplic. Financ.
A6: GASTO DE INVERSIÓN DE LA ADMINISTRACIÓN PÚBLICA NACIONAL POR PROYECTO EN LA PROVINCIA DE LA RIOJA | J6: =+SUM(J7:J38) -> 22172.127 | K6: =+SUM(K7:K38) -> 21112.233 | L6: =+SUM(L7:L38) -> 1059.8949 | M6: =+SUM(M7:M38) -> 0 | N6: =+SUM(N7:N38) -> 0
A7: 10 | B7: Ministerio Público | C7: 360 | D7: Procuración General de la Nación | E7: 150663 | F7: ADQUISICIÓN DE EQUIPAMIENTO PARA LA CREACIÓN DE NUEVAS SEDES DEL RÉGIMEN ACUSATORIO EN EL TERRITORIO NACIONAL | G7: A INICIAR | H7: ADMINISTRACION GUBERNAMENTAL | I7: Judicial | J7: 10.0464 | K7: 10.0464 | L7: 0 | M7: 0 | N7: 0
A8: 10 | B8: Ministerio Público | C8: 361 | D8: Defensoría General de la Nación | E8: 146494 | F8: CONSTRUCCIÓN DE LA SEDE DE LA DEFENSORÍA DE VÍCTIMAS DE LA RIOJA | G8: A INICIAR | H8: ADMINISTRACION GUBERNAMENTAL | I8: Judicial | J8: 73.5 | K8: 73.5 | L8: 0 | M8: 0 | N8: 0
A9: 25 | B9: Jefatura de Gabinete de Ministros | C9: 107 | D9: Administración de Parques Nacionales | E9: 154714 | F9: ADQUISICIÓN DE EQUIPAMIENTO BÁSICO DE OFICINA PARA TODAS LAS DEPENDENCIAS DE LA ADMINISTRACIÓN DE PARQUES NACIONALES - AÑO 2027 | G9: A INICIAR | H9: SERVICIOS ECONOMICOS | I9: Ecología y Desarrollo Sostenible | J9: 96.545616 | K9: 96.545616 | L9: 0 | M9: 0 | N9: 0
A10: 25 | B10: Jefatura de Gabinete de Ministros | C10: 107 | D10: Administración de Parques Nacionales | E10: 154718 | F10: ADQUISICIÓN DE EQUIPAMIENTO PARA MANTENIMIENTO Y OPERACIÓN DE TODAS LAS ÁREAS PROTEGIDAS DE LA ADMINISTRACIÓN DE PARQUES NACIONALES - NACIONAL - AÑO 2027 | G10: A INICIAR | H10: SERVICIOS ECONOMICOS | I10: Ecología y Desarrollo Sostenible | J10: 84.77176 | K10: 84.77176 | L10: 0 | M10: 0 | N10: 0
A11: 50 | B11: Ministerio de Economía | C11: 105 | D11: Comisión Nacional de Energía Atómica | E11: 50385 | F11: ADQUISICIÓN DE EQUIPOS, ACTIVOS INTANGIBLES Y DESARROLLO DE ACTIVIDADES MINERAS NECESARIAS PARA OBTENER NUEVOS RECURSOS URANIFEROS EN LA PROVINCIA DE LA RIOJA | G11: INICIADO | H11: SERVICIOS SOCIALES | I11: Ciencia, Tecnología e Innovación | J11: 160 | K11: 160 | L11: 0 | M11: 0 | N11: 0
A12: 50 | B12: Ministerio de Economía | C12: 604 | D12: Dirección Nacional de Vialidad | E12: 109047 | F12: CREMA MALLA 304 - OBRAS DE RECUPERACIÓN Y MANTENIMIENTO EN LA RUTA NACIONAL N°38; TRAMO: LTE. CÓRDOBA/LA RIOJA - PUNTA DE LOS LLANOS Y RN 79; TRAMO: STA. RITA RP 31 - EMP. RN 60, PROVINCIA: LA RIOJA Y CATAMARCA | G12: A INICIAR | H12: SERVICIOS ECONOMICOS | I12: Transporte | J12: 2269.1958 | K12: 2269.1958 | L12: 0 | M12: 0 | N12: 0
A13: 50 | B13: Ministerio de Economía | C13: 604 | D13: Dirección Nacional de Vialidad | E13: 109125 | F13: ENSANCHE RN 75 LA RIOJA - LOS SAUCES | G13: INICIADO | H13: SERVICIOS ECONOMICOS | I13: Transporte | J13: 7559.7625 | K13: 7559.7625 | L13: 0 | M13: 0 | N13: 0
A14: 50 | B14: Ministerio de Economía | C14: 604 | D14: Dirección Nacional de Vialidad | E14: 121394 | F14: CONSERVACION MEJORATIVA, RUTA NAC. N° 38, TRAMO: BAZAN - LTE. CON CATAMARCA, SECIÓN: KM. 460,33 - KM. 506,02, PROVINCIA DE LA RIOJA | G14: A INICIAR | H14: SERVICIOS ECONOMICOS | I14: Transporte | J14: 469.77242 | K14: 469.77242 | L14: 0 | M14: 0 | N14: 0
A15: 50 | B15: Ministerio de Economía | C15: 604 | D15: Dirección Nacional de Vialidad | E15: 121410 | F15: SISTEMA MODULAR DE MANTENIMIENTO, RUTA NAC. N° 76, TRAMO: VINCHINA - LTE. CON CHILE, SECIÓN: KM. 179,59 - KM. 377,21, PROVINCIA DE LA RIOJA | G15: INICIADO | H15: SERVICIOS ECONOMICOS | I15: Transporte | J15: 1.6964 | K15: 1.6964 | L15: 0 | M15: 0 | N15: 0
A16: 50 | B16: Ministerio de Economía | C16: 604 | D16: Dirección Nacional de Vialidad | E16: 122864 | F16: PAVIMENTACIÓN DE CAMINO, RUTA NACIONAL N° 76 - TRAMO: QUEBRADA SANTO DOMINGO - PIRCAS NEGRAS, PROVINCIA DE LA RIOJA | G16: INICIADO | H16: SERVICIOS ECONOMICOS | I16: Transporte | J16: 904.56237 | K16: 904.56237 | L16: 0 | M16: 0 | N16: 0
A17: 50 | B17: Ministerio de Economía | C17: 604 | D17: Dirección Nacional de Vialidad | E17: 122868 | F17: CONSTRUCCIÓN DE NUEVO CAMINO DE MONTAÑA, RUTA NACIONAL N° 73, TRAMO: ANGUINÁN - EMPALME RUTA NACIONAL N° 75, SECCIÓN II: KM 21.60 - QUEBRADA DE LA HORQUETA, LA RIOJA | G17: INICIADO | H17: SERVICIOS ECONOMICOS | I17: Transporte | J17: 760.42242 | K17: 760.42242 | L17: 0 | M17: 0 | N17: 0
A18: 50 | B18: Ministerio de Economía | C18: 604 | D18: Dirección Nacional de Vialidad | E18: 122870 | F18: CONSTRUCCIÓN DE NUEVO CAMINO DE MONTAÑA, RUTA NACIONAL N° 73, TRAMO: LOS CAJONES - ANGUINÁN; SECCIÓN: KM. 0,00 (PAMPA DE LA VIUDA) KM. 21,60, LA RIOJA | G18: INICIADO | H18: SERVICIOS ECONOMICOS | I18: Transporte | J18: 2490.1914 | K18: 2490.1914 | L18: 0 | M18: 0 | N18: 0
